BEGIN:VCALENDAR
VERSION:2.0
PRODID:Events Booking
BEGIN:VEVENT
UID:69e7ec27a6e44
SUMMARY:AHA BLS CPR Instructor Course – Become a CPR Instructor in Queens
 \, NY
DESCRIPTION:Become an American Heart Association BLS CPR Instructor at BVAC
  Rescue Response Training Center in Bayside\, Queens\, NY. This instructor
  course is designed for healthcare professionals and experienced rescuers 
 who want to teach BLS\, CPR\, and AED skills using AHA course materials an
 d methods. Ideal for current providers looking to expand their teaching ro
 le\, this course covers instructor responsibilities\, course delivery\, sk
 ills evaluation\, student feedback\, and professional classroom instructio
 n.
 &nbsp\;
 
 Prerequisite
 
 
 &nbsp\;** Students must bring a cur
 rent AHA CPR Card to class
 
 
 &nbsp\;** Candidates must complete the 
 online portion of the&nbsp\;Instructor Essentials Course&nbsp\;for their r
 espective discipline before taking this course. You must bring certificate
  of completion with you.
 
 
LOCATION:214-29 42nd Ave Bayside NY 11361
DTSTART:20260517T090000Z
DTEND:20260517T170000Z
DTSTAMP:20250728T121958Z
ORGANIZER;CN=BVAC Rescue Response:MAILTO:BVAC.Rescue@bvacorps.org
GEO:40.763071;-73.769614
X-APPLE-STRUCTURED-LOCATION;VALUE=URI;X-ADDRESS=214-29 42nd Ave Bayside NY 
 11361;X-APPLE-RADIUS=72;X-TITLE=BVAC Rescue Response Training Center:40.76
 3071;-73.769614
END:VEVENT
END:VCALENDAR