BEGIN:VCALENDAR
VERSION:2.0
PRODID:Events Booking
BEGIN:VEVENT
UID:69e7ecfbe1d57
SUMMARY:AHA BLS CPR Instructor Course – Become a CPR Instructor in Queens
 \, NY
DESCRIPTION:Become an American Heart Association BLS CPR Instructor at BVAC
  Rescue Response Training Center in Bayside\, Queens\, NY. This instructor
  course is designed for healthcare professionals and experienced rescuers 
 who want to teach BLS\, CPR\, and AED skills using AHA course materials an
 d methods. Ideal for current providers looking to expand their teaching ro
 le\, this course covers instructor responsibilities\, course delivery\, sk
 ills evaluation\, student feedback\, and professional classroom instructio
 n.
 &nbsp\;
 
 Prerequisite
 
 
 &nbsp\;** Students must bring a cur
 rent AHA CPR Card to class
 
 
 &nbsp\;** Candidates must complete the 
 online portion of the&nbsp\;Instructor Essentials Course&nbsp\;for their r
 espective discipline before taking this course. You must bring certificate
  of completion with you.
 
 
LOCATION:214-29 42nd Ave Bayside NY 11361
DTSTART:20260517T090000Z
DTEND:20260517T170000Z
DTSTAMP:20250728T121958Z
ORGANIZER;CN=BVAC Rescue Response:MAILTO:BVAC.Rescue@bvacorps.org
GEO:40.763071;-73.769614
X-APPLE-STRUCTURED-LOCATION;VALUE=URI;X-ADDRESS=214-29 42nd Ave Bayside NY 
 11361;X-APPLE-RADIUS=72;X-TITLE=BVAC Rescue Response Training Center:40.76
 3071;-73.769614
END:VEVENT
BEGIN:VEVENT
UID:69e7ecfbe1dd1
SUMMARY:ACLS Certification Course | AHA Advanced Cardiac Life Support Train
 ing (Queens - BVAC*)
DESCRIPTION:The American Heart Association Advanced Cardiac Life Support (A
 CLS) course provides healthcare professionals with the skills to recognize
  and manage serious cardiovascular emergencies\, including cardiac arrest\
 , stroke\, and acute heart rhythm problems. Through hands-on practice and 
 team-based scenarios\, participants learn advanced airway management\, ECG
  interpretation\, and medication interventions to improve patient outcomes
  during critical events.
LOCATION:214-29 42nd Ave Bayside NY 11361
DTSTART:20260403T090000Z
DTEND:20260403T170000Z
DTSTAMP:20260421T173243Z
ORGANIZER;CN=BVAC Rescue Response:MAILTO:BVAC.Rescue@bvacorps.org
GEO:40.763071;-73.769614
X-APPLE-STRUCTURED-LOCATION;VALUE=URI;X-ADDRESS=214-29 42nd Ave Bayside NY 
 11361;X-APPLE-RADIUS=72;X-TITLE=BVAC Rescue Response Training Center:40.76
 3071;-73.769614
END:VEVENT
BEGIN:VEVENT
UID:69e7ecfbe1e0c
SUMMARY:AHA Basic Life Support (BLS) CPR & AED Certification – Queens\, N
 Y (BVAC*)
DESCRIPTION:The American Heart Association (AHA) Basic Life Support (BLS) C
 PR | AED course is a foundational training program designed to equip indiv
 iduals with the skills and knowledge needed to respond effectively to card
 iac emergencies. It is suitable for healthcare professionals\, first respo
 nders\, and anyone interested in acquiring essential life-saving skills.
LOCATION:214-29 42nd Ave Bayside NY 11361
DTSTART:20260403T180000Z
DTEND:20260403T220000Z
DTSTAMP:20260421T173243Z
ORGANIZER;CN=BVAC Rescue Response:MAILTO:BVAC.Rescue@bvacorps.org
GEO:40.763071;-73.769614
X-APPLE-STRUCTURED-LOCATION;VALUE=URI;X-ADDRESS=214-29 42nd Ave Bayside NY 
 11361;X-APPLE-RADIUS=72;X-TITLE=BVAC Rescue Response Training Center:40.76
 3071;-73.769614
END:VEVENT
BEGIN:VEVENT
UID:69e7ecfbe1e45
SUMMARY:PALS Provider Course | AHA Pediatric Life Support Certification –
  BVAC (Queens\, NY)
DESCRIPTION:The American Heart Association Pediatric Advanced Life Support 
 (PALS) course teaches healthcare providers how to recognize and manage lif
 e-threatening emergencies in infants and children. This advanced training 
 covers airway management\, cardiac emergencies\, and high-quality team res
 uscitation skills to improve patient outcomes during critical pediatric ev
 ents.
LOCATION:214-29 42nd Ave Bayside NY 11361
DTSTART:20260403T090000Z
DTEND:20260403T170000Z
DTSTAMP:20260421T173243Z
ORGANIZER;CN=BVAC Rescue Response:MAILTO:BVAC.Rescue@bvacorps.org
GEO:40.763071;-73.769614
X-APPLE-STRUCTURED-LOCATION;VALUE=URI;X-ADDRESS=214-29 42nd Ave Bayside NY 
 11361;X-APPLE-RADIUS=72;X-TITLE=BVAC Rescue Response Training Center:40.76
 3071;-73.769614
END:VEVENT
END:VCALENDAR