BEGIN:VCALENDAR
VERSION:2.0
PRODID:Events Booking
BEGIN:VEVENT
UID:69e7ec7aca6b1
SUMMARY:EPA Lead Inspector Initial
DESCRIPTION:The USEPA Lead Inspector Initial is a comprehensive 3-day (24-h
 our) training equipping students with skills to conduct Lead-based Paint I
 nspections and Surveys. Covering work practices\, testing methods\, XRF an
 alyzers\, sampling\, reporting\, and hands-on workshops\, it grants an Int
 erim Course Completion Certificate. This enables work as a Lead Inspector 
 while completing the EPA Application for a full 3-year license.
LOCATION:214-29 42nd Ave Bayside NY 11361
DTSTART:20260520T090000Z
DTEND:20260522T170000Z
DTSTAMP:20260116T145646Z
ORGANIZER;CN=BVAC Rescue Response:MAILTO:BVAC.Rescue@bvacorps.org
GEO:40.763071;-73.769614
X-APPLE-STRUCTURED-LOCATION;VALUE=URI;X-ADDRESS=214-29 42nd Ave Bayside NY 
 11361;X-APPLE-RADIUS=72;X-TITLE=BVAC Rescue Response Training Center:40.76
 3071;-73.769614
END:VEVENT
BEGIN:VEVENT
UID:69e7ec7aca70f
SUMMARY:EPA Lead Worker Initial Course (Spanish)
DESCRIPTION:
 El USEPA Lead Abatement Worker Initial es un curso de capaci
 tación de 16 horas (2 días) diseñado para preparar a los estudiantes a 
 organizar y ejecutar proyectos de reducción (abatimiento) de plomo. Duran
 te la formación\, los participantes aprenden las regulaciones aplicables 
 y el uso correcto del equipo de protección personal (EPP/PPE) requerido p
 ara trabajar de manera segura.
 
 Los estudiantes completarán ejercicio
 s en clase y talleres prácticos\, que incluyen:
 
 
 
 Preparación d
 el sitio de trabajo y montaje del área de descontaminación
 
 
 Méto
 dos de reducción: eliminación\, reemplazo y encapsulamiento/recinto
 

  
 Procedimientos de limpieza final y verificación del área de trabajo
 
 
 
 
 Después de completar el curso con éxito\, recibirá un Certif
 icado de Finalización que le permitirá trabajar como Lead Abatement Work
 er durante un período de hasta 6 meses\, mientras completa el proceso de 
 solicitud de la USEPA para obtener su licencia completa con vigencia de 3 
 años.
LOCATION:214-29 42nd Ave Bayside NY 11361
DTSTART:20260613T090000Z
DTEND:20260614T170000Z
DTSTAMP:20260116T152843Z
ORGANIZER;CN=BVAC Rescue Response:MAILTO:BVAC.Rescue@bvacorps.org
GEO:40.763071;-73.769614
X-APPLE-STRUCTURED-LOCATION;VALUE=URI;X-ADDRESS=214-29 42nd Ave Bayside NY 
 11361;X-APPLE-RADIUS=72;X-TITLE=BVAC Rescue Response Training Center:40.76
 3071;-73.769614
END:VEVENT
BEGIN:VEVENT
UID:69e7ec7aca74a
SUMMARY:EPA Lead Risk Assessor Initial
DESCRIPTION:The USEPA Lead Risk Assessor Initial is a 16-hour (2-day) train
 ing program that prepares students to perform lead risk assessments\, elev
 ated blood lead level (EBLL) investigations\, hazard evaluations\, and cle
 arance evaluations.
LOCATION:214-29 42nd Ave Bayside NY 11361
DTSTART:20260302T090000Z
DTEND:20260303T170000Z
DTSTAMP:20250117T144604Z
ORGANIZER;CN=BVAC Rescue Response:MAILTO:BVAC.Rescue@bvacorps.org
GEO:40.763071;-73.769614
X-APPLE-STRUCTURED-LOCATION;VALUE=URI;X-ADDRESS=214-29 42nd Ave Bayside NY 
 11361;X-APPLE-RADIUS=72;X-TITLE=BVAC Rescue Response Training Center:40.76
 3071;-73.769614
END:VEVENT
BEGIN:VEVENT
UID:69e7ec7aca77a
SUMMARY:EPA Lead Abatement Worker Initial Course (English)
DESCRIPTION:The EPA Lead Abatement Worker Initial 2-Day training course is 
 designed for individuals interested in safely removing lead-based material
 s. This comprehensive program equips participants with essential skills an
 d knowledge to effectively mitigate lead hazards in various environments. 
 Covering vital topics such as lead regulations\, health effects\, and prop
 er abatement techniques\, attendees learn how to identify\, contain\, and 
 eliminate lead contamination safely and efficiently. Through hands-on inst
 ruction and interactive sessions\, participants gain practical experience 
 in lead abatement procedures\, ensuring compliance with environmental stan
 dards and safeguarding public health. Join this course to become proficien
 t in addressing lead hazards and protecting communities from exposure risk
 s.
LOCATION:214-29 42nd Ave Bayside NY 11361
DTSTART:20260403T090000Z
DTEND:20260403T170000Z
DTSTAMP:20260421T173034Z
ORGANIZER;CN=BVAC Rescue Response:MAILTO:BVAC.Rescue@bvacorps.org
GEO:40.763071;-73.769614
X-APPLE-STRUCTURED-LOCATION;VALUE=URI;X-ADDRESS=214-29 42nd Ave Bayside NY 
 11361;X-APPLE-RADIUS=72;X-TITLE=BVAC Rescue Response Training Center:40.76
 3071;-73.769614
END:VEVENT
END:VCALENDAR