BEGIN:VCALENDAR
VERSION:2.0
PRODID:Events Booking
BEGIN:VEVENT
UID:69e7ec6ebb5ee
SUMMARY:EPA Lead Abatement Worker Initial Course (English)
DESCRIPTION:The EPA Lead Abatement Worker Initial 2-Day training course is 
 designed for individuals interested in safely removing lead-based material
 s. This comprehensive program equips participants with essential skills an
 d knowledge to effectively mitigate lead hazards in various environments. 
 Covering vital topics such as lead regulations\, health effects\, and prop
 er abatement techniques\, attendees learn how to identify\, contain\, and 
 eliminate lead contamination safely and efficiently. Through hands-on inst
 ruction and interactive sessions\, participants gain practical experience 
 in lead abatement procedures\, ensuring compliance with environmental stan
 dards and safeguarding public health. Join this course to become proficien
 t in addressing lead hazards and protecting communities from exposure risk
 s.
LOCATION:214-29 42nd Ave Bayside NY 11361
DTSTART:20260403T090000Z
DTEND:20260403T170000Z
DTSTAMP:20260421T173022Z
ORGANIZER;CN=BVAC Rescue Response:MAILTO:BVAC.Rescue@bvacorps.org
GEO:40.763071;-73.769614
X-APPLE-STRUCTURED-LOCATION;VALUE=URI;X-ADDRESS=214-29 42nd Ave Bayside NY 
 11361;X-APPLE-RADIUS=72;X-TITLE=BVAC Rescue Response Training Center:40.76
 3071;-73.769614
END:VEVENT
END:VCALENDAR