BEGIN:VCALENDAR
VERSION:2.0
PRODID:Events Booking
BEGIN:VEVENT
UID:69e7ec2927684
SUMMARY:Stop the Bleed Training Course – Bleeding Control Class in Queens
 \, NY
DESCRIPTION:Learn lifesaving bleeding control skills at BVAC Rescue Respons
 e Training Center in Bayside\, Queens\, NY. This hands-on Stop the Bleed t
 raining course teaches students how to recognize life-threatening bleeding
 \, apply direct pressure\, pack wounds\, and use a tourniquet so they can 
 respond quickly and effectively before EMS arrives. Ideal for parents\, te
 achers\, coaches\, caregivers\, workplace teams\, security staff\, communi
 ty members\, and anyone who wants practical emergency response training in
  Queens\, NYC\, or nearby Long Island.
LOCATION:214-29 42nd Ave Bayside NY 11361
DTSTART:20260418T120000Z
DTEND:20260418T140000Z
DTSTAMP:20260421T172913Z
ORGANIZER;CN=BVAC Rescue Response:MAILTO:BVAC.Rescue@bvacorps.org
GEO:40.763071;-73.769614
X-APPLE-STRUCTURED-LOCATION;VALUE=URI;X-ADDRESS=214-29 42nd Ave Bayside NY 
 11361;X-APPLE-RADIUS=72;X-TITLE=BVAC Rescue Response Training Center:40.76
 3071;-73.769614
END:VEVENT
END:VCALENDAR