BEGIN:VCALENDAR
VERSION:2.0
PRODID:Events Booking
BEGIN:VEVENT
UID:69e7edb20c2e7
SUMMARY:18-Hour NYS CCW Course – 5 Evening Sessions in Bayside\, Queens (
 BVAC)
DESCRIPTION:18-Hour NYS CCW Course – 5 Evening Sessions in Bayside\, Quee
 ns Monday to Friday. 5:30 PM - 9:30 PM.
 &nbsp\;
 &nbsp\;
 &nbsp\;
 Co
 mplete the official NYS 18-Hour Concealed Carry Course at BVAC Rescue Resp
 onse Training Center in Bayside\, Queens. This state-required program cove
 rs handgun safety\, New York firearm laws\, conflict de-escalation\, situa
 tional awareness\, and live-fire range training. Taught by certified instr
 uctors with law enforcement and firearms expertise\, this course fulfills 
 all requirements for your NYC and NYS pistol permit application.
LOCATION:214-29 42nd Ave Bayside NY 11361
DTSTART:20260601T173000Z
DTEND:20260605T213000Z
DTSTAMP:20251119T130336Z
ORGANIZER;CN=BVAC Rescue Response:MAILTO:BVAC.Rescue@bvacorps.org
GEO:40.763071;-73.769614
X-APPLE-STRUCTURED-LOCATION;VALUE=URI;X-ADDRESS=214-29 42nd Ave Bayside NY 
 11361;X-APPLE-RADIUS=72;X-TITLE=BVAC Rescue Response Training Center:40.76
 3071;-73.769614
END:VEVENT
END:VCALENDAR