BEGIN:VCALENDAR
VERSION:2.0
PRODID:Events Booking
BEGIN:VEVENT
UID:69e7ed53ce204
SUMMARY:NAEMT Prehospital Trauma Life Support (PHTLS) Course – Queens\, N
 Y
DESCRIPTION:Take the NAEMT Prehospital Trauma Life Support (PHTLS) course a
 t BVAC Rescue Response Training Center in Bayside\, Queens\, NY. This hand
 s-on trauma course is designed for EMTs\, paramedics\, firefighters\, nurs
 es\, rescue personnel\, law enforcement responders\, and other prehospital
  providers who want to strengthen trauma assessment\, critical thinking\, 
 hemorrhage control\, airway management\, shock recognition\, and patient c
 are decision-making in the field.
LOCATION:214-29 42nd Ave Bayside NY 11361
DTSTART:20260523T090000Z
DTEND:20260524T170000Z
DTSTAMP:20260421T173411Z
ORGANIZER;CN=BVAC Rescue Response:MAILTO:BVAC.Rescue@bvacorps.org
GEO:40.763071;-73.769614
X-APPLE-STRUCTURED-LOCATION;VALUE=URI;X-ADDRESS=214-29 42nd Ave Bayside NY 
 11361;X-APPLE-RADIUS=72;X-TITLE=BVAC Rescue Response Training Center:40.76
 3071;-73.769614
END:VEVENT
BEGIN:VEVENT
UID:69e7ed53ce2bd
SUMMARY:Tactical Emergency Casualty Care (TECC) Course (BVAC)
DESCRIPTION:Boost your ability to respond to emergencies with our Tactical 
 Emergency Casualty Care (TECC) course. This training is perfect for first 
 responders\, EMS workers\, and law enforcement officers. Approved by NAEMT
 \, the course teaches essential life-saving skills\, like stopping bleedin
 g\, treating wounds\, and assessing injuries quickly. You'll practice thes
 e skills in realistic scenarios and earn your TECC certification to handle
  critical emergencies in high-risk situations confidently.
LOCATION:214-29 42nd Ave Bayside NY 11361
DTSTART:20260403T090000Z
DTEND:20260403T170000Z
DTSTAMP:20260421T173411Z
ORGANIZER;CN=BVAC Rescue Response:MAILTO:BVAC.Rescue@bvacorps.org
GEO:40.763071;-73.769614
X-APPLE-STRUCTURED-LOCATION;VALUE=URI;X-ADDRESS=214-29 42nd Ave Bayside NY 
 11361;X-APPLE-RADIUS=72;X-TITLE=BVAC Rescue Response Training Center:40.76
 3071;-73.769614
END:VEVENT
END:VCALENDAR