BEGIN:VCALENDAR
VERSION:2.0
PRODID:Events Booking
BEGIN:VEVENT
UID:69e7ec2837df6
SUMMARY:K9 Medical Operator Course 
DESCRIPTION:The K9 Medical Operator course is designed to teach participant
 s how to care for working dogs in challenging and high-pressure situations
 &nbsp\;Join us for an intensive\, hands-on K9 Medical Operator Class desig
 ned to equip handlers\, first responders\, and veterinary support teams wi
 th essential lifesaving skills for working dogs in the field.
LOCATION:214-29 42nd Ave Bayside NY 11361
DTSTART:20260403T090000Z
DTEND:20260403T170000Z
DTSTAMP:20250114T143148Z
ORGANIZER;CN=BVAC Rescue Response:MAILTO:BVAC.Rescue@bvacorps.org
GEO:40.763071;-73.769614
X-APPLE-STRUCTURED-LOCATION;VALUE=URI;X-ADDRESS=214-29 42nd Ave Bayside NY 
 11361;X-APPLE-RADIUS=72;X-TITLE=BVAC Rescue Response Training Center:40.76
 3071;-73.769614
END:VEVENT
END:VCALENDAR