BEGIN:VCALENDAR
VERSION:2.0
PRODID:Events Booking
BEGIN:VEVENT
UID:69e7ec28b267b
SUMMARY:First Response Essentials Course – CPR\, Bleeding Control & Emerg
 ency Response in Queens\, NY
DESCRIPTION:First Response Essentials gives everyday people\, caregivers\, 
 and workplace teams practical emergency skills they can use before profess
 ional help arrives.
LOCATION:214-29 42nd Ave Bayside NY 11361
DTSTART:20260516T090000Z
DTEND:20260516T140000Z
DTSTAMP:20251025T131933Z
ORGANIZER;CN=BVAC Rescue Response:MAILTO:BVAC.Rescue@bvacorps.org
GEO:40.763071;-73.769614
X-APPLE-STRUCTURED-LOCATION;VALUE=URI;X-ADDRESS=214-29 42nd Ave Bayside NY 
 11361;X-APPLE-RADIUS=72;X-TITLE=BVAC Rescue Response Training Center:40.76
 3071;-73.769614
END:VEVENT
END:VCALENDAR